BEGIN:VCALENDAR
VERSION:2.0
PRODID:gresten.gv.at
X-PUBLISHED-TTL:P1D
BEGIN:VEVENT
UID:69e7e1d7b5a42
DTSTART:20200209T070000
SEQUENCE:0
TRANSP:OPAQUE
DTEND:20200209T160000
LOCATION:Eisenerzer Ramsau
SUMMARY:Schitour Ochsenboden 1634 m
CLASS:PUBLIC
DTSTAMP:20260421T224511Z
END:VEVENT
END:VCALENDAR