BEGIN:VCALENDAR
VERSION:2.0
PRODID:wallsee-sindelburg.gv.at
X-PUBLISHED-TTL:P1D
BEGIN:VEVENT
UID:69eb8597ed08f
DTSTART:20191014T190000
SEQUENCE:0
TRANSP:OPAQUE
DTEND:20191014T203000
LOCATION:Raikagebäude 
SUMMARY:Hatha Yogakurs
CLASS:PUBLIC
DESCRIPTION:Für weiter Informationen und zur Anmeldung steht Ihnen Iris Li
 chtenberger (Akademieleitung) gerne unter 0699/17376705 zur Vefügung
DTSTAMP:20260424T170039Z
END:VEVENT
END:VCALENDAR