BEGIN:VCALENDAR
VERSION:2.0
PRODID:gresten.gv.at
X-PUBLISHED-TTL:P1D
BEGIN:VEVENT
UID:69ec0c43b2748
DTSTART:20191211T170000
SEQUENCE:0
TRANSP:OPAQUE
DTEND:20191211T183000
LOCATION:Sportplatz 
SUMMARY:Kinderlauftreff
CLASS:PUBLIC
DESCRIPTION:Vom  04.09.-18.12.2019\, jeden Mittwoch um 17:00 Uhr Treffpunkt
  beim Sportplatz \"Neue Heimat\"\n\n\n\nKatharina\nScharner\, Tel. 0650/99
 90346\, katharina.scharner@aon.at\n\n
DTSTAMP:20260425T023515Z
END:VEVENT
END:VCALENDAR