BEGIN:VCALENDAR
VERSION:2.0
PRODID:wallsee-sindelburg.gv.at
X-PUBLISHED-TTL:P1D
BEGIN:VEVENT
UID:69e5296fcad12
DTSTART:20190817T080000
SEQUENCE:0
TRANSP:OPAQUE
DTEND:20190817T200000
LOCATION:Mostheuriger Bruckhof 
SUMMARY:Sommerfrühstück am Bruckhof 
CLASS:PUBLIC
DESCRIPTION:Um Voranmeldung wird erbeten unter\, Tel. 0660 522 20 65 oder 0
 7478 434 Brot &amp\; Gebäck aus der eigenen BackstubeFür Kinder gibt es 
 einen Spielplatz &amp\; GoKartsAuf Ihr/dein Kommen freut sich Familie Lamp
 ersberger 
DTSTAMP:20260419T211351Z
END:VEVENT
END:VCALENDAR