BEGIN:VCALENDAR
VERSION:2.0
PRODID:behamberg.gv.at
X-PUBLISHED-TTL:P1D
BEGIN:VEVENT
UID:69eaf72f2b6f5
DTSTART:20190614T000000
SEQUENCE:0
TRANSP:OPAQUE
DTEND:20190614T000000
LOCATION:Bibliothek Kleinraming
SUMMARY:Sommernachtslesung \"Ans Meer\"
CLASS:PUBLIC
DESCRIPTION:René Freund liest und erzählt aus \"Ans Meer\". Beginn ist um
  19.30 Uhr\, Eintritt € 7\,-. 
DTSTAMP:20260424T065303Z
END:VEVENT
END:VCALENDAR