BEGIN:VCALENDAR
VERSION:2.0
PRODID:wallsee-sindelburg.gv.at
X-PUBLISHED-TTL:P1D
BEGIN:VEVENT
UID:69ece6913fdd6
DTSTART:20190518T000000
SEQUENCE:0
TRANSP:OPAQUE
DTEND:20190518T000000
LOCATION:Beach & Wassersportzentrum 
SUMMARY:Beachvolley PRO Tour Amateur 1 Dame/Herrn
CLASS:PUBLIC
DTSTAMP:20260425T180641Z
END:VEVENT
END:VCALENDAR