BEGIN:VCALENDAR
VERSION:2.0
PRODID:ferschnitz.gv.at
X-PUBLISHED-TTL:P1D
BEGIN:VEVENT
UID:69e7ab8ded752
DTSTART:20191031T000000
SEQUENCE:0
TRANSP:OPAQUE
DTEND:20191031T030000
LOCATION:Bankstelle
SUMMARY:Weltspartag
CLASS:PUBLIC
DTSTAMP:20260421T185333Z
END:VEVENT
END:VCALENDAR