BEGIN:VCALENDAR
VERSION:2.0
PRODID:gresten.gv.at
X-PUBLISHED-TTL:P1D
BEGIN:VEVENT
UID:69ed6032ed810
DTSTART:20191214T200000
SEQUENCE:0
TRANSP:OPAQUE
DTEND:20191214T220000
LOCATION:Kulturschmiede
SUMMARY:QUETSCHWORK FAMILY
CLASS:PUBLIC
DESCRIPTION:Die Mostviertler Bühnenbilderbuchfamilie\, genauer gesagt ein 
 Weibs- und drei Mannsbilder\, verhindern mit Humor\, dass einem der Kragen
  platzt und stimmen nebenbei mit Hör- und Fühlspiel auf Weihnachten ein.
DTSTAMP:20260426T024538Z
END:VEVENT
END:VCALENDAR