BEGIN:VCALENDAR
VERSION:2.0
PRODID:steinakirchen-forst.gv.at
X-PUBLISHED-TTL:P1D
BEGIN:VEVENT
UID:69e7b22700157
DTSTART:20190502T200000
SEQUENCE:0
TRANSP:OPAQUE
DTEND:20180502T223000
LOCATION:Zum Gassl
SUMMARY:Alex Kristan - Kabarett
CLASS:PUBLIC
DESCRIPTION:In JETLAG für ANFÄNGER treffen viele verschiedene Persönlich
 keiten und zahlreiche Prominente aufeinander\, die sich zwar nicht kennen\
 , aber alle der gleichen Spezies angehören\, die gleichzeitig auch eine d
 er unterschätztesten ist:\nDer Urlauber. Bewaffnet mit Handtuch und Sonne
 nöl und einem nicht unerheblichen Pensum an guter Laune\, wollen alle nur
  eines\, und das heißt: Ruhe\, Erholung und ganz besonders „Fun“!\nAb
 er wieso fährt man überhaupt weg\, wenn es ja angeblich daheim eh am sch
 önsten ist? Sie wissen\, was gemeint ist? Sie sind urlaubsreif? Dann stei
 gen Sie ein: Hier geht’s zu einem Abend\, der vom Start bis zur Landung 
 Spaß macht. Ein Praxislehrgang für Urlauber und Urlaubsreife\, die eines
  gemeinsam wollen:Ruhe\, Erholung\, Fun!ACHTUNG: Keine Erholung für die L
 achmuskeln!Wieso fährt man überhaupt weg\, wenn es angeblich daheim am s
 chönsten ist? Ab wann ist man erholt\, wenn man mit voller Blase beim Fö
 rderband am Flughafen wartet\, der Sand verdammt heiß ist und das fremde 
 Handtuch wieder auf der Lieblingsliege liegt? - Steigen Sie ein! Spaß vom
  Start bis zur Landung! 
DTSTAMP:20260421T192142Z
END:VEVENT
END:VCALENDAR