BEGIN:VCALENDAR
VERSION:2.0
PRODID:wallsee-sindelburg.gv.at
X-PUBLISHED-TTL:P1D
BEGIN:VEVENT
UID:69eba5a6d6f2d
DTSTART:20180501T100000
SEQUENCE:0
TRANSP:OPAQUE
DTEND:20180501T180000
LOCATION:Schloss Wallsee
SUMMARY:Ausstellung \"Gartenlust Schloss Wallsee\"
CLASS:PUBLIC
DTSTAMP:20260424T191726Z
END:VEVENT
END:VCALENDAR