BEGIN:VCALENDAR
VERSION:2.0
PRODID:zeillern.gv.at
X-PUBLISHED-TTL:P1D
BEGIN:VEVENT
UID:69ea3e12e47d6
DTSTART:20160610T184500
SEQUENCE:0
TRANSP:OPAQUE
DTEND:20160610T210000
LOCATION:Schloss Hotel Zeillern
SUMMARY:Don Carlos Dinner und Krimi
CLASS:PUBLIC
DESCRIPTION:Neuer Mordfall! Genießen und erleben Sie einen spektakulären 
 Mordfall bei einem 3-gängigen Menü und helfen Sie\, den Mord aufzukläre
 n! Karten sind an der Rezeption erhältlich
DTSTAMP:20260423T174314Z
END:VEVENT
END:VCALENDAR