BEGIN:VCALENDAR
VERSION:2.0
PRODID:gresten-land.gv.at
X-PUBLISHED-TTL:P1D
BEGIN:VEVENT
UID:69e8baf48f6f7
DTSTART:20070617T000000
SEQUENCE:0
TRANSP:OPAQUE
DTEND:20070617T000000
LOCATION:Hauptschule Gresten
SUMMARY:Blutspendeaktion
CLASS:PUBLIC
DESCRIPTION:Organisation: Rotes Kreuz und Haupstschule Gresten
DTSTAMP:20260422T141132Z
END:VEVENT
END:VCALENDAR