BEGIN:VCALENDAR
VERSION:2.0
PRODID:gresten-land.gv.at
X-PUBLISHED-TTL:P1D
BEGIN:VEVENT
UID:69ea8bbc053bf
DTSTART:20260430T150000
SEQUENCE:0
TRANSP:OPAQUE
DTEND:20260522T220000
LOCATION:Firmengelände von Metallbau Josef Welser
SUMMARY:Maifest 
CLASS:PUBLIC
DESCRIPTION:Donnerstag\, 30. Mai 2026 ab 15:00 UhrMaibaumaufstellen mit mus
 ikalischer Begleitung und kleiner Ausschankab 16:00 UhrImbisswagen Wasserh
 ammerÖtscher KlangFreitag\, 01. Mai 2026ab 11:00 Uhr&nbsp\;Frühschoppen 
 mit der Ortskapelle GrestenGrillerei der VTG GrestennachmittagsAuftritt ei
 ner VolkstanzgruppeMaibaum kraxeln und Hag´l ziangMusikalische Unterhaltu
 ng durch die Kronwild KrainerKinderprogramm&nbsp\;Instrumentenvorstellung 
 durch MVOKSchnuppern beim Schützenverein GrestenFF-Auto-Ausstellung der F
 F Gresten
DTSTAMP:20260423T231436Z
END:VEVENT
END:VCALENDAR