BEGIN:VCALENDAR
VERSION:2.0
PRODID:st-pantaleon-erla.gv.at
X-PUBLISHED-TTL:P1D
BEGIN:VEVENT
UID:69e99e936b965
DTSTART:20260904T190000
SEQUENCE:0
TRANSP:OPAQUE
DTEND:20260904T190000
LOCATION:Pfarrhof Erla
SUMMARY:Konzert \" Die Strebitzer\"
CLASS:PUBLIC
DTSTAMP:20260423T062243Z
END:VEVENT
END:VCALENDAR