BEGIN:VCALENDAR
VERSION:2.0
PRODID:gresten.gv.at
X-PUBLISHED-TTL:P1D
BEGIN:VEVENT
UID:69e8bb3c87b5c
DTSTART:20261121T160000
SEQUENCE:0
TRANSP:OPAQUE
DTEND:20261121T230000
LOCATION:Markt Gresten
SUMMARY:Mostviertler Krampusspektakel
CLASS:PUBLIC
DESCRIPTION:- 
DTSTAMP:20260422T141244Z
END:VEVENT
END:VCALENDAR