BEGIN:VCALENDAR
VERSION:2.0
PRODID:gresten.gv.at
X-PUBLISHED-TTL:P1D
BEGIN:VEVENT
UID:69e8bc10ed79b
DTSTART:20260425T000000
SEQUENCE:0
TRANSP:OPAQUE
DTEND:20260425T000000
SUMMARY:Georgiprozession 2026
CLASS:PUBLIC
DTSTAMP:20260422T141616Z
END:VEVENT
END:VCALENDAR