BEGIN:VCALENDAR
VERSION:2.0
PRODID:gresten.gv.at
X-PUBLISHED-TTL:P1D
BEGIN:VEVENT
UID:69e8bb6584ae2
DTSTART:20260424T190000
SEQUENCE:0
TRANSP:OPAQUE
DTEND:20260424T190000
LOCATION:Pfarrkirche Gresten
SUMMARY:\"Kirchenchor mal anders\"
CLASS:PUBLIC
DTSTAMP:20260422T141325Z
END:VEVENT
END:VCALENDAR