BEGIN:VCALENDAR
VERSION:2.0
PRODID:gresten.gv.at
X-PUBLISHED-TTL:P1D
BEGIN:VEVENT
UID:69e8bc16a229d
DTSTART:20260920T000000
SEQUENCE:0
TRANSP:OPAQUE
DTEND:20260920T000000
SUMMARY:Eröffnungsfeier des Pfarrverbandes
CLASS:PUBLIC
DTSTAMP:20260422T141622Z
END:VEVENT
END:VCALENDAR