BEGIN:VCALENDAR
VERSION:2.0
PRODID:gresten-land.gv.at
X-PUBLISHED-TTL:P1D
BEGIN:VEVENT
UID:69e8bbc3130a8
DTSTART:20260906T080000
SEQUENCE:0
TRANSP:OPAQUE
DTEND:20260906T190000
LOCATION:Gresten-Land
SUMMARY:Proviantwandertag
CLASS:PUBLIC
DESCRIPTION:Der Proviantwandertag wird ähnlich wie im Vorjahr entlang des 
 Proviantweges am Grestner Hochkogel und die Suttengresten führen.&nbsp\;G
 enauere Informationen zur Veranstaltung werden folgen.&nbsp\;
DTSTAMP:20260422T141459Z
END:VEVENT
END:VCALENDAR