BEGIN:VCALENDAR
VERSION:2.0
PRODID:oed-oehling.gv.at
X-PUBLISHED-TTL:P1D
BEGIN:VEVENT
UID:69eb5e9e5f681
DTSTART:20260622T160000
SEQUENCE:0
TRANSP:OPAQUE
DTEND:20260622T160000
LOCATION:Gemeindeamt
SUMMARY:kostenloser Notarsprechtag
CLASS:PUBLIC
DESCRIPTION:Voranmeldung notwendig!Termin bitte unter 07475 / 533 40 400 od
 er gemeinde@oed-oehling.gv.at vereinbaren.&nbsp\;Es erfolgen Informationen
  zu Vertragserrichtungen\, insbesondere Liegenschaftskauf und -übergabe\,
  im Unternehmensrecht\, Familienrecht\, Erbrecht und Verlassenschaftsverfa
 hren\, Grundbuchund Firmenbuch
DTSTAMP:20260424T141422Z
END:VEVENT
END:VCALENDAR