BEGIN:VCALENDAR
VERSION:2.0
PRODID:oed-oehling.gv.at
X-PUBLISHED-TTL:P1D
BEGIN:VEVENT
UID:69eb5de241126
DTSTART:20260430T180000
SEQUENCE:0
TRANSP:OPAQUE
DTEND:20260430T180000
LOCATION:Marktplatz Oed
SUMMARY:Maibaum aufstellen
CLASS:PUBLIC
DTSTAMP:20260424T141114Z
END:VEVENT
END:VCALENDAR