BEGIN:VCALENDAR
VERSION:2.0
PRODID:gresten.gv.at
X-PUBLISHED-TTL:P1D
BEGIN:VEVENT
UID:69e8bbec5f23c
DTSTART:20260501T130000
SEQUENCE:0
TRANSP:OPAQUE
DTEND:20260501T170000
LOCATION:Schützenlokal
SUMMARY:Tag der offenen Tür mit Schnupperschießen
CLASS:PUBLIC
DESCRIPTION:Am 1. Mai 2026 laden wir herzlich zu unserem Tag der offenen T
 ür ein! Von 13:00 bis 17:00 Uhr haben alle Interessierten die Möglichkei
 t\, den Schießsport hautnah zu erleben.Beim Schnupperschießen können Lu
 ftgewehr und Luftpistole unter fachkundiger Anleitung ausprobiert werden. 
 Teilnehmen können alle ab 8 Jahren – Vorkenntnisse sind nicht erforderl
 ich. Unser Team steht jederzeit zur Seite und sorgt für eine sichere und 
 angenehme Einführung.Ob neugierig\, sportlich interessiert oder einfach a
 uf der Suche nach einem spannenden Nachmittag: Bei uns ist jeder willkomme
 n!Wir freuen uns auf euren Besuch!\n\n
DTSTAMP:20260422T141540Z
END:VEVENT
END:VCALENDAR