BEGIN:VCALENDAR
VERSION:2.0
PRODID:gresten.gv.at
X-PUBLISHED-TTL:P1D
BEGIN:VEVENT
UID:69e8bc060029a
DTSTART:20260731T000000
SEQUENCE:0
TRANSP:OPAQUE
DTEND:20260802T000000
SUMMARY:Feuerwehrfest
CLASS:PUBLIC
DTSTAMP:20260422T141605Z
END:VEVENT
END:VCALENDAR