BEGIN:VCALENDAR
VERSION:2.0
PRODID:gresten.gv.at
X-PUBLISHED-TTL:P1D
BEGIN:VEVENT
UID:69e8bb23f3c1a
DTSTART:20260503T080000
SEQUENCE:0
TRANSP:OPAQUE
DTEND:20260503T100000
LOCATION:Pfarrkirche Gresten
SUMMARY:Florianisonntag
CLASS:PUBLIC
DTSTAMP:20260422T141219Z
END:VEVENT
END:VCALENDAR