BEGIN:VCALENDAR
VERSION:2.0
PRODID:st-pantaleon-erla.gv.at
X-PUBLISHED-TTL:P1D
BEGIN:VEVENT
UID:69e9a0776561d
DTSTART:20260423T190000
SEQUENCE:0
TRANSP:OPAQUE
DTEND:20260423T190000
LOCATION:Josef Heiml Halle
SUMMARY:Vortrag
CLASS:PUBLIC
DTSTAMP:20260423T063047Z
END:VEVENT
END:VCALENDAR