BEGIN:VCALENDAR
VERSION:2.0
PRODID:gresten-land.gv.at
X-PUBLISHED-TTL:P1D
BEGIN:VEVENT
UID:69e8bba8b5e3e
DTSTART:20260602T190000
SEQUENCE:0
TRANSP:OPAQUE
DTEND:20260602T030000
LOCATION:Kulturschmiede Gresten
SUMMARY:EMIL- Informationsveranstaltung 
CLASS:PUBLIC
DTSTAMP:20260422T141432Z
END:VEVENT
END:VCALENDAR