BEGIN:VCALENDAR
VERSION:2.0
PRODID:reinsberg.gv.at
X-PUBLISHED-TTL:P1D
BEGIN:VEVENT
UID:69e8a4eb881bf
DTSTART:20260425T093000
SEQUENCE:0
TRANSP:OPAQUE
DTEND:20260425T170000
SUMMARY:Unterwegs mit Anneliese und Romana
CLASS:PUBLIC
DESCRIPTION:Reine Gehzeit ca. 5 Stunden
DTSTAMP:20260422T123731Z
END:VEVENT
END:VCALENDAR