BEGIN:VCALENDAR
VERSION:2.0
PRODID:oed-oehling.gv.at
X-PUBLISHED-TTL:P1D
BEGIN:VEVENT
UID:69eb5d037d944
DTSTART:20260822T090000
SEQUENCE:0
TRANSP:OPAQUE
DTEND:20260822T090000
LOCATION:Beachplatz Oed
SUMMARY:Oeder Beachvolleyballturnier
CLASS:PUBLIC
DTSTAMP:20260424T140731Z
END:VEVENT
END:VCALENDAR