BEGIN:VCALENDAR
VERSION:2.0
PRODID:reinsberg.gv.at
X-PUBLISHED-TTL:P1D
BEGIN:VEVENT
UID:69e8a11b42175
DTSTART:20260928T163000
SEQUENCE:0
TRANSP:OPAQUE
DTEND:20260928T030000
LOCATION:Pfarrheim Purgstall
SUMMARY:Vorsorge aktiv Junior
CLASS:PUBLIC
DTSTAMP:20260422T122115Z
END:VEVENT
END:VCALENDAR