BEGIN:VCALENDAR
VERSION:2.0
PRODID:reinsberg.gv.at
X-PUBLISHED-TTL:P1D
BEGIN:VEVENT
UID:69e8a0c2808ba
DTSTART:20260610T150000
SEQUENCE:0
TRANSP:OPAQUE
DTEND:20260610T163000
LOCATION:Gresten
SUMMARY:Salben rühren mit Veronika Eppensteiner
CLASS:PUBLIC
DTSTAMP:20260422T121946Z
END:VEVENT
END:VCALENDAR