BEGIN:VCALENDAR
VERSION:2.0
PRODID:reinsberg.gv.at
X-PUBLISHED-TTL:P1D
BEGIN:VEVENT
UID:69e8a13439b78
DTSTART:20260508T150000
SEQUENCE:0
TRANSP:OPAQUE
DTEND:20260508T170000
LOCATION:Rathausplatz Gresten
SUMMARY:Themewanderung
CLASS:PUBLIC
DTSTAMP:20260422T122140Z
END:VEVENT
END:VCALENDAR