BEGIN:VCALENDAR
VERSION:2.0
PRODID:reinsberg.gv.at
X-PUBLISHED-TTL:P1D
BEGIN:VEVENT
UID:69e8a16dd0fc5
DTSTART:20260422T190000
SEQUENCE:0
TRANSP:OPAQUE
DTEND:20260422T210000
LOCATION:Schulzentrum Gresten\, Veranstaltungssaal
SUMMARY:Tanzen macht Spass
CLASS:PUBLIC
DTSTAMP:20260422T122237Z
END:VEVENT
END:VCALENDAR