BEGIN:VCALENDAR
VERSION:2.0
PRODID:gresten.gv.at
X-PUBLISHED-TTL:P1D
BEGIN:VEVENT
UID:69ea8afeea020
DTSTART:20260517T000000
SEQUENCE:0
TRANSP:OPAQUE
DTEND:20260517T000000
LOCATION:MMS Gresten
SUMMARY:Blutspendeaktion
CLASS:PUBLIC
DTSTAMP:20260423T231126Z
END:VEVENT
END:VCALENDAR