BEGIN:VCALENDAR
VERSION:2.0
PRODID:st-pantaleon-erla.gv.at
X-PUBLISHED-TTL:P1D
BEGIN:VEVENT
UID:69e9a0e1cd885
DTSTART:20260629T050000
SEQUENCE:0
TRANSP:OPAQUE
DTEND:20260629T190000
LOCATION:St. Pantaleon-Erla
SUMMARY:Sperrmüll Service 2026
CLASS:PUBLIC
DTSTAMP:20260423T063233Z
END:VEVENT
END:VCALENDAR