BEGIN:VCALENDAR
VERSION:2.0
PRODID:behamberg.gv.at
X-PUBLISHED-TTL:P1D
BEGIN:VEVENT
UID:69e5fabc572bc
DTSTART:20260509T180000
SEQUENCE:0
TRANSP:OPAQUE
DTEND:20260509T000000
LOCATION:Kultursaal Behamberg
SUMMARY:Mostfest - Landjugend Behamberg
CLASS:PUBLIC
DESCRIPTION:Die Landjugend Behamberg lädt herzlich zum diesjährigenMostfe
 st am 9. Mai 2026 um 18:00 Uhr in den Kultursaal ein!Freut euch auf eine l
 eckere Brettljause und eine Most- undSchnapsbar!Für musikalische Umrahmun
 g sorgt die Mostviertler Tanzlmusi.Um 20:00 Uhr folgt die Mostprämierung.
 Die Landjugend Behamberg freut sich auf zahlreiche Besucher!
DTSTAMP:20260420T120652Z
END:VEVENT
END:VCALENDAR