BEGIN:VCALENDAR
VERSION:2.0
PRODID:st-georgen-reith.gv.at
X-PUBLISHED-TTL:P1D
BEGIN:VEVENT
UID:69e8b8809ba56
DTSTART:20260425T150000
SEQUENCE:0
TRANSP:OPAQUE
DTEND:20260425T000000
LOCATION:Siegfried Rabl-Platz
SUMMARY:wir feiern KATHARINA HUBER
CLASS:PUBLIC
DTSTAMP:20260422T140104Z
END:VEVENT
END:VCALENDAR