BEGIN:VCALENDAR
VERSION:2.0
PRODID:behamberg.gv.at
X-PUBLISHED-TTL:P1D
BEGIN:VEVENT
UID:69e5ef1229797
DTSTART:20260503T093000
SEQUENCE:0
TRANSP:OPAQUE
DTEND:20260503T000000
LOCATION:Feuerwehr Haus Behamberg
SUMMARY:Florianimesse mit Frühschoppen
CLASS:PUBLIC
DESCRIPTION:Am 3. Mai findet die Florianimesse mit der Fahrzeugsegnung des 
 neuen Lastfahrzeugs der FreiwilligenFeuerwehr Behamberg statt. Bei Schönw
 etter findet die Messe im Feuerwehrhaus statt. Im Anschluss gibt es einen 
 Frühschoppen mit dem Musikverein Wachtberg und den Mostbradlern rund ums 
 Feuerwehrhaus.Für alle kleinen und großen Feuerwehrfans gibt es außerde
 m eine Fahrzeugschau\, bei der das neue Fahrzeug sowie auch die anderen Ei
 nsatzfahrzeuge aus nächster Nähe besichtigt werden können. Für unsere 
 kleinen Gäste gibt es an beiden Tagen wieder ein großes Kinderprogramm.D
 er Reinerlös der Veranstaltung wird für die Anschaffungvon Einsatzbeklei
 dung und Geräten verwendet.
DTSTAMP:20260420T111706Z
END:VEVENT
END:VCALENDAR