BEGIN:VCALENDAR
VERSION:2.0
PRODID:behamberg.gv.at
X-PUBLISHED-TTL:P1D
BEGIN:VEVENT
UID:69e5fd1596218
DTSTART:20260415T140000
SEQUENCE:0
TRANSP:OPAQUE
DTEND:20260415T000000
LOCATION:Kultursaal Behamberg
SUMMARY:Senioren Modenschau
CLASS:PUBLIC
DESCRIPTION:Neueste Trends in der Frühjahrs- und Sommermode für Damen und
  Herren präsentiert die Firma Schenkermayr Moden aus St. Peter/Au am Mitt
 woch\, den 15. April um 14.00 Uhr im Kultursaal\, veranstaltet von den Beh
 amberger Senioren.Dazu sind ALLE modeinteressierten Behambergerinnen und B
 ehambergerrecht herzlich eingeladen.Die Senioren freuen sich auf zahlreich
 en Besuch.
DTSTAMP:20260420T121653Z
END:VEVENT
END:VCALENDAR