BEGIN:VCALENDAR
VERSION:2.0
PRODID:oed-oehling.gv.at
X-PUBLISHED-TTL:P1D
BEGIN:VEVENT
UID:69eb5e4bb6e49
DTSTART:20261221T160000
SEQUENCE:0
TRANSP:OPAQUE
DTEND:20261221T173000
LOCATION:Gemeindeamt
SUMMARY:Notar Sprechtag
CLASS:PUBLIC
DESCRIPTION:Voranmeldung am Gemeindeamt unter 07475 / 533 40 400 unbedingt 
 notwendig!
DTSTAMP:20260424T141259Z
END:VEVENT
END:VCALENDAR