BEGIN:VCALENDAR
VERSION:2.0
PRODID:behamberg.gv.at
X-PUBLISHED-TTL:P1D
BEGIN:VEVENT
UID:69eb3287408a4
DTSTART:20260418T190000
SEQUENCE:0
TRANSP:OPAQUE
DTEND:20260418T000000
LOCATION:Mehrzweckhalle 
SUMMARY:Auf geht's Pock ma's
CLASS:PUBLIC
DTSTAMP:20260424T110615Z
END:VEVENT
END:VCALENDAR