BEGIN:VCALENDAR
VERSION:2.0
PRODID:st-pantaleon-erla.gv.at
X-PUBLISHED-TTL:P1D
BEGIN:VEVENT
UID:69e99f1c0f84f
DTSTART:20260703T180000
SEQUENCE:0
TRANSP:OPAQUE
DTEND:20260703T220000
LOCATION:Haager Hauptplatz
SUMMARY:Theater Sommer Haag Gemeindetag
CLASS:PUBLIC
DESCRIPTION:THEATERSOMMER 2026 / In Moliéres wahrscheinlich berühmtester 
 Komödie „Der Geizhals“\, begegnen wir einem Charakter\, der uns in de
 r heutigen Welt wohl immer weniger erspart bleibt. Der narzisstisch gestö
 rte Knauser Harpagon hat ein geradezu erotisches Verhältnis zu seinem im 
 Garten vergrabenen Geldbatzen. Die Liebe allerdings ist für ihn lediglich
  eine geschäftliche Angelegenheit. Er ist seiner Umwelt gegenüber stets 
 feindlich eingestellt. Sein Geiz erreicht astronomische Maße und seine Me
 nschlichkeit ist nicht einmal erahnbar. Harpagon terrorisiert seine Famili
 e\, allen voran seine Kinder Elise und Cleante\, deren Heiratspläne er du
 rchkreuzt und zu seinem Vorteil zu instrumentalisieren gedenkt.\n\nEr hat 
 seine Tochter Elise dem begüterten\, alten Anselme versprochen\, für den
  Sohn Cléante ist eine reiche Witwe vorgesehen. Für sich selbst hat er d
 ie junge Marianne im Visier\, die aber heimlich Cléante liebt. Doch mit v
 iel List gelingt es beiden Geschwistern\, trotzdem ihre Liebesheiraten zu 
 verwirklichen.\nGemeinsam zum Theatersommer und 10% sparen\n\nWie bereits 
 in den letzten Jahren übernimmt unsere Gemeinde auch heuer wieder am 03.0
 7.2026 eine Patenschaft. Damit haben Sie die Möglichkeit\, bei einem erm
 äßigten Eintritt (10%) einen vergnüglichen Abend beim Theatersommer in 
 Haag zu genießen. \n\nDie Karten für Ihren Theaterbesuch bekommen Sie di
 rekt im Büro des Haager Theatersommers. Von 9.00 bis 12.00 und von 14.00 
 bis 16.00 Uhr (Montag bis Freitag) ist das Kartenbüro telefonisch unter d
 er Nummer 07434/44600 erreichbar. Sie brauchen hier nur anzugeben\, dass S
 ie Einwohner unserer Gemeinde sind und können somit Ihre Karten zum reduz
 ierten Tarif bestellen.\n
DTSTAMP:20260423T062500Z
END:VEVENT
END:VCALENDAR