BEGIN:VCALENDAR
VERSION:2.0
PRODID:behamberg.gv.at
X-PUBLISHED-TTL:P1D
BEGIN:VEVENT
UID:69e5ec3753bc7
DTSTART:20260501T100000
SEQUENCE:0
TRANSP:OPAQUE
DTEND:20260501T220000
LOCATION:Feuerwehrhaus Behamberg
SUMMARY:Maifest Behamberg
CLASS:PUBLIC
DESCRIPTION:Zum diesjährigen Maifest am 1. Mai lädt die Freiwillige Feuer
 wehr Behamberg alle recht herzlich ein.\n\nDer Maibaum wird – wie bereit
 s im Vorjahr – am 1. Mai nach der Hl. Messe um 10:00 Uhr gemeinsam mit d
 en Kameradinnen und Kameraden der Feuerwehr Wachtberg am Dorfplatz aufgest
 ellt.\n\nAnschließend findet rund um das Feuerwehrhaus ein gemütlicher F
 rühschoppen mit den „Behamberger Böhmischen“ statt.\n\nFür kulinari
 sche Köstlichkeiten\, wie Schweinsbratl\, Putenstreifensalat\, Grillwürs
 tel\, Bosner\, Salatteller mit Falafel\, … sorgen die Mitglieder der Fre
 iwilligen Feuerwehr Behamberg.\n\nNach dem Frühschoppen sorgen die „KAR
 LOS Party Krainer“ für beste Stimmung.\n\nFür die musikalische Umrahmu
 ng beim Maibaumaufstellen sorgen der Musikverein Behamberg gemeinsam mit d
 em Musikverein Wachtberg.\n\nFür die kleinen Gäste gibt es an beiden Tag
 en wieder ein großes Kinderprogramm. Der Reinerlös der Veranstaltung wir
 d für die Anschaffung von Einsatzbekleidung und Geräten verwendet.\n\nAu
 f Ihren Besuch freut sich die Freiwillige Feuerwehr Behamberg.
DTSTAMP:20260420T110455Z
END:VEVENT
END:VCALENDAR