BEGIN:VCALENDAR
VERSION:2.0
PRODID:behamberg.gv.at
X-PUBLISHED-TTL:P1D
BEGIN:VEVENT
UID:69e5fb99a7ebb
DTSTART:20260416T190000
SEQUENCE:0
TRANSP:OPAQUE
DTEND:20260416T000000
LOCATION:Gasthaus Hönigl
SUMMARY:Zurück zur inneren Balance
CLASS:PUBLIC
DESCRIPTION:Im Rahmen der „Gesunden Gemeinde Behamberg“ möchten wir Si
 e recht herzlich zu einem interessanten Vortrag im Bereich der mentalen Ge
 sundheit einladen.Die Vortragende\, Lisa Reitbauer – Dipl. Mental- & Kin
 dermentaltrainerin\, eine gebürtige Behambergerin\, wird in einem zirka e
 ineinhalbstündigen Vortrag referieren und für Fragen zur Verfügung steh
 en.Wir bitten um Anmeldung am Gemeindeamt unter 07252/31000Freier Eintritt
DTSTAMP:20260420T121033Z
END:VEVENT
END:VCALENDAR