BEGIN:VCALENDAR
VERSION:2.0
PRODID:st-pantaleon-erla.gv.at
X-PUBLISHED-TTL:P1D
BEGIN:VEVENT
UID:69e99e93e602a
DTSTART:20260905T000000
SEQUENCE:0
TRANSP:OPAQUE
DTEND:20260906T000000
LOCATION:Multivereinshaus
SUMMARY:Eröffnungsfeier Multivereinshaus
CLASS:PUBLIC
DTSTAMP:20260423T062243Z
END:VEVENT
END:VCALENDAR