BEGIN:VCALENDAR
VERSION:2.0
PRODID:st-georgen-reith.gv.at
X-PUBLISHED-TTL:P1D
BEGIN:VEVENT
UID:69e8b93f3dd82
DTSTART:20260531T000000
SEQUENCE:0
TRANSP:OPAQUE
DTEND:20260531T030000
SUMMARY:Maiandacht Kirchenbergstraße
CLASS:PUBLIC
DTSTAMP:20260422T140415Z
END:VEVENT
END:VCALENDAR