BEGIN:VCALENDAR
VERSION:2.0
PRODID:st-georgen-reith.gv.at
X-PUBLISHED-TTL:P1D
BEGIN:VEVENT
UID:69e8b8e13e264
DTSTART:20260531T000000
SEQUENCE:0
TRANSP:OPAQUE
DTEND:20260531T030000
LOCATION:Siegfried Rabl-Platz
SUMMARY:Frühschoppen
CLASS:PUBLIC
DTSTAMP:20260422T140241Z
END:VEVENT
END:VCALENDAR