BEGIN:VCALENDAR
VERSION:2.0
PRODID:st-georgen-reith.gv.at
X-PUBLISHED-TTL:P1D
BEGIN:VEVENT
UID:69e8b88016ef1
DTSTART:20260704T000000
SEQUENCE:0
TRANSP:OPAQUE
DTEND:20260704T000000
LOCATION:Fußballplatz
SUMMARY:Fußball Dorfmeisterschaft
CLASS:PUBLIC
DTSTAMP:20260422T140104Z
END:VEVENT
END:VCALENDAR