BEGIN:VCALENDAR
VERSION:2.0
PRODID:st-pantaleon-erla.gv.at
X-PUBLISHED-TTL:P1D
BEGIN:VEVENT
UID:69e9a3714abbc
DTSTART:20260517T090000
SEQUENCE:0
TRANSP:OPAQUE
DTEND:20260517T180000
LOCATION:Sportplatz
SUMMARY:Feldmesse mit anschließendem Frühschoppen
CLASS:PUBLIC
DTSTAMP:20260423T064329Z
END:VEVENT
END:VCALENDAR