BEGIN:VCALENDAR
VERSION:2.0
PRODID:gresten.gv.at
X-PUBLISHED-TTL:P1D
BEGIN:VEVENT
UID:69e74a6a915d3
DTSTART:20260425T190000
SEQUENCE:0
TRANSP:OPAQUE
DTEND:20260425T220000
LOCATION:Gasthaus Kummer
SUMMARY:Mitgliederversammlung der Naturfreunde Gresten
CLASS:PUBLIC
DTSTAMP:20260421T115906Z
END:VEVENT
END:VCALENDAR