BEGIN:VCALENDAR
VERSION:2.0
PRODID:gresten.gv.at
X-PUBLISHED-TTL:P1D
BEGIN:VEVENT
UID:69e74a13e1b5b
DTSTART:20260731T000000
SEQUENCE:0
TRANSP:OPAQUE
DTEND:20260802T000000
LOCATION:Glocknergruppe
SUMMARY:Drei Tage rund um den Großglockner
CLASS:PUBLIC
DESCRIPTION:Drei Tage hochalpines Gelände. Fels\, Weite\, Gletscherblicke.
  Wir bewegen uns im Herzen der Glocknergruppe.\nAnforderungen: Du bewegst 
 dich sicher im alpinen Gelände. Du hast Kondition für mehrere Stunden Ge
 hzeit pro Tag.\n\nNähere Infos findest du auf unserer Website (siehe Vera
 nstalterlink).\n\nKontakt:\nRobert Plank\nTel: 0699/13640901\nMail: robert
 .plank@naturfreunde.at
DTSTAMP:20260421T115739Z
END:VEVENT
END:VCALENDAR